BEGIN:VCALENDAR
VERSION:2.0
PRODID:-//Aron Veninga - ECPv6.15.20//NONSGML v1.0//EN
CALSCALE:GREGORIAN
METHOD:PUBLISH
X-ORIGINAL-URL:https://aronveninga.nl
X-WR-CALDESC:Evenementen voor Aron Veninga
REFRESH-INTERVAL;VALUE=DURATION:PT1H
X-Robots-Tag:noindex
X-PUBLISHED-TTL:PT1H
BEGIN:VTIMEZONE
TZID:UTC
BEGIN:STANDARD
TZOFFSETFROM:+0000
TZOFFSETTO:+0000
TZNAME:UTC
DTSTART:20230101T000000
END:STANDARD
END:VTIMEZONE
BEGIN:VEVENT
DTSTART;TZID=UTC:20240927T230000
DTEND;TZID=UTC:20240927T234500
DTSTAMP:20260423T114149
CREATED:20240921T123148Z
LAST-MODIFIED:20240921T123148Z
UID:235-1727478000-1727480700@aronveninga.nl
SUMMARY:Pinguïn Sessions 27/09/24 @Drie Gezusters Groningen
DESCRIPTION:Om 23 uur sta ik in De Drie Gezusters om kans te maken op een plek op Eurosonic 2025. Wees erbij!
URL:https://aronveninga.nl/event/pinguin-sessions-27-09-24-drie-gezusters-groningen/
END:VEVENT
END:VCALENDAR