BEGIN:VCALENDAR
VERSION:2.0
PRODID:-//Aron Veninga - ECPv6.15.20//NONSGML v1.0//EN
CALSCALE:GREGORIAN
METHOD:PUBLISH
X-ORIGINAL-URL:https://aronveninga.nl
X-WR-CALDESC:Evenementen voor Aron Veninga
REFRESH-INTERVAL;VALUE=DURATION:PT1H
X-Robots-Tag:noindex
X-PUBLISHED-TTL:PT1H
BEGIN:VTIMEZONE
TZID:UTC
BEGIN:STANDARD
TZOFFSETFROM:+0000
TZOFFSETTO:+0000
TZNAME:UTC
DTSTART:20230101T000000
END:STANDARD
END:VTIMEZONE
BEGIN:VEVENT
DTSTART;TZID=UTC:20240126T113000
DTEND;TZID=UTC:20240126T170000
DTSTAMP:20260424T011915
CREATED:20231030T072323Z
LAST-MODIFIED:20231030T072535Z
UID:181-1706268600-1706288400@aronveninga.nl
SUMMARY:Noardewyn Omrop Fryslân (solo)
DESCRIPTION:Release vinyl + cd Bij jou
URL:https://aronveninga.nl/event/noardewyn-omrop-fryslan-solo-release-vinyl-cd-bij-jou/
END:VEVENT
END:VCALENDAR