BEGIN:VCALENDAR
VERSION:2.0
PRODID:-//Aron Veninga - ECPv6.15.20//NONSGML v1.0//EN
CALSCALE:GREGORIAN
METHOD:PUBLISH
X-WR-CALNAME:Aron Veninga
X-ORIGINAL-URL:https://aronveninga.nl
X-WR-CALDESC:Evenementen voor Aron Veninga
REFRESH-INTERVAL;VALUE=DURATION:PT1H
X-Robots-Tag:noindex
X-PUBLISHED-TTL:PT1H
BEGIN:VTIMEZONE
TZID:Europe/Amsterdam
BEGIN:DAYLIGHT
TZOFFSETFROM:+0100
TZOFFSETTO:+0200
TZNAME:CEST
DTSTART:20220327T010000
END:DAYLIGHT
BEGIN:STANDARD
TZOFFSETFROM:+0200
TZOFFSETTO:+0100
TZNAME:CET
DTSTART:20221030T010000
END:STANDARD
BEGIN:DAYLIGHT
TZOFFSETFROM:+0100
TZOFFSETTO:+0200
TZNAME:CEST
DTSTART:20230326T010000
END:DAYLIGHT
BEGIN:STANDARD
TZOFFSETFROM:+0200
TZOFFSETTO:+0100
TZNAME:CET
DTSTART:20231029T010000
END:STANDARD
BEGIN:DAYLIGHT
TZOFFSETFROM:+0100
TZOFFSETTO:+0200
TZNAME:CEST
DTSTART:20240331T010000
END:DAYLIGHT
BEGIN:STANDARD
TZOFFSETFROM:+0200
TZOFFSETTO:+0100
TZNAME:CET
DTSTART:20241027T010000
END:STANDARD
END:VTIMEZONE
BEGIN:VEVENT
DTSTART;VALUE=DATE:20230506
DTEND;VALUE=DATE:20230507
DTSTAMP:20260424T150641
CREATED:20230508T143239Z
LAST-MODIFIED:20230508T143303Z
UID:91-1683331200-1683417599@aronveninga.nl
SUMMARY:Benefietconcert in de Bethelkerk te Leeuwarden.
DESCRIPTION:
URL:https://aronveninga.nl/event/91/
END:VEVENT
BEGIN:VEVENT
DTSTART;VALUE=DATE:20230527
DTEND;VALUE=DATE:20230528
DTSTAMP:20260424T150641
CREATED:20230508T143350Z
LAST-MODIFIED:20230508T143350Z
UID:94-1685145600-1685231999@aronveninga.nl
SUMMARY:Lunchconcert Pinksterfeest-316 te Wijnjewoude
DESCRIPTION:
URL:https://aronveninga.nl/event/lunchconcert-pinksterfeest-316-te-wijnjewoude/
END:VEVENT
BEGIN:VEVENT
DTSTART;TZID=Europe/Amsterdam:20230528T150000
DTEND;TZID=Europe/Amsterdam:20230528T170000
DTSTAMP:20260424T150641
CREATED:20230508T143423Z
LAST-MODIFIED:20230515T184051Z
UID:96-1685286000-1685293200@aronveninga.nl
SUMMARY:Middagconcert Amazing Grace Festival te Onstwedde
DESCRIPTION:
URL:https://aronveninga.nl/event/middagconcert-amazang-grace-festival-te-onstwedde/
END:VEVENT
END:VCALENDAR