BEGIN:VCALENDAR
VERSION:2.0
PRODID:-//Aron Veninga - ECPv6.15.20//NONSGML v1.0//EN
CALSCALE:GREGORIAN
METHOD:PUBLISH
X-ORIGINAL-URL:https://aronveninga.nl
X-WR-CALDESC:Evenementen voor Aron Veninga
REFRESH-INTERVAL;VALUE=DURATION:PT1H
X-Robots-Tag:noindex
X-PUBLISHED-TTL:PT1H
BEGIN:VTIMEZONE
TZID:UTC
BEGIN:STANDARD
TZOFFSETFROM:+0000
TZOFFSETTO:+0000
TZNAME:UTC
DTSTART:20220101T000000
END:STANDARD
END:VTIMEZONE
BEGIN:VEVENT
DTSTART;TZID=UTC:20231208T200000
DTEND;TZID=UTC:20231208T220000
DTSTAMP:20260424T050013
CREATED:20231030T072102Z
LAST-MODIFIED:20231030T072102Z
UID:179-1702065600-1702072800@aronveninga.nl
SUMMARY:Huiskamerconcert Leeuwarden (besloten)
DESCRIPTION:
URL:https://aronveninga.nl/event/huiskamerconcert-leeuwarden-besloten/
END:VEVENT
END:VCALENDAR